BEGIN:VCALENDAR
VERSION:2.0
PRODID:-//Escuchame Project Yvette - ECPv6.15.17//NONSGML v1.0//EN
CALSCALE:GREGORIAN
METHOD:PUBLISH
X-WR-CALNAME:Escuchame Project Yvette
X-ORIGINAL-URL:https://escuchameprojectyvette.org
X-WR-CALDESC:Events for Escuchame Project Yvette
REFRESH-INTERVAL;VALUE=DURATION:PT1H
X-Robots-Tag:noindex
X-PUBLISHED-TTL:PT1H
BEGIN:VTIMEZONE
TZID:UTC
BEGIN:STANDARD
TZOFFSETFROM:+0000
TZOFFSETTO:+0000
TZNAME:UTC
DTSTART:20210101T000000
END:STANDARD
END:VTIMEZONE
BEGIN:VTIMEZONE
TZID:America/Los_Angeles
BEGIN:DAYLIGHT
TZOFFSETFROM:-0800
TZOFFSETTO:-0700
TZNAME:PDT
DTSTART:20190310T100000
END:DAYLIGHT
BEGIN:STANDARD
TZOFFSETFROM:-0700
TZOFFSETTO:-0800
TZNAME:PST
DTSTART:20191103T090000
END:STANDARD
BEGIN:DAYLIGHT
TZOFFSETFROM:-0800
TZOFFSETTO:-0700
TZNAME:PDT
DTSTART:20200308T100000
END:DAYLIGHT
BEGIN:STANDARD
TZOFFSETFROM:-0700
TZOFFSETTO:-0800
TZNAME:PST
DTSTART:20201101T090000
END:STANDARD
BEGIN:DAYLIGHT
TZOFFSETFROM:-0800
TZOFFSETTO:-0700
TZNAME:PDT
DTSTART:20210314T100000
END:DAYLIGHT
BEGIN:STANDARD
TZOFFSETFROM:-0700
TZOFFSETTO:-0800
TZNAME:PST
DTSTART:20211107T090000
END:STANDARD
END:VTIMEZONE
BEGIN:VEVENT
DTSTART;TZID=UTC:20220813T080000
DTEND;TZID=UTC:20220913T170000
DTSTAMP:20260423T210728
CREATED:20220813T190851Z
LAST-MODIFIED:20220813T190924Z
UID:784-1660377600-1663088400@escuchameprojectyvette.org
SUMMARY:Ask About Our Survivor B.R.A.V.E Boxes (get on our list)
DESCRIPTION:Survivor BRAVE Box – A box filled with love and encouragement! Get on our list. Fill out a short questionnaire.
URL:https://escuchameprojectyvette.org/event/ask-about-our-survivor-b-r-a-v-e-boxes-get-on-our-list/
CATEGORIES:Encouragement,Support
END:VEVENT
BEGIN:VEVENT
DTSTART;TZID=America/Los_Angeles:20200114T000000
DTEND;TZID=America/Los_Angeles:20200512T000000
DTSTAMP:20260423T210728
CREATED:20191122T065426Z
LAST-MODIFIED:20191210T023330Z
UID:607-1578960000-1589241600@escuchameprojectyvette.org
SUMMARY:Women's Support Group
DESCRIPTION:
URL:https://escuchameprojectyvette.org/event/607/
CATEGORIES:Featured,Support Group
ATTACH;FMTTYPE=image/jpeg:https://escuchameprojectyvette.org/wp-content/uploads/2019/11/IMG_66771.jpg
END:VEVENT
END:VCALENDAR